BEGIN:VCALENDAR
VERSION:2.0
PRODID:-//Plumbers &amp; Pipefitters Local Union 189 - Columbus OH - ECPv6.15.20//NONSGML v1.0//EN
CALSCALE:GREGORIAN
METHOD:PUBLISH
X-ORIGINAL-URL:https://ualocal189.com
X-WR-CALDESC:Events for Plumbers &amp; Pipefitters Local Union 189 - Columbus OH
REFRESH-INTERVAL;VALUE=DURATION:PT1H
X-Robots-Tag:noindex
X-PUBLISHED-TTL:PT1H
BEGIN:VTIMEZONE
TZID:UTC
BEGIN:STANDARD
TZOFFSETFROM:+0000
TZOFFSETTO:+0000
TZNAME:UTC
DTSTART:20210101T000000
END:STANDARD
END:VTIMEZONE
BEGIN:VTIMEZONE
TZID:America/New_York
BEGIN:DAYLIGHT
TZOFFSETFROM:-0500
TZOFFSETTO:-0400
TZNAME:EDT
DTSTART:20210314T070000
END:DAYLIGHT
BEGIN:STANDARD
TZOFFSETFROM:-0400
TZOFFSETTO:-0500
TZNAME:EST
DTSTART:20211107T060000
END:STANDARD
BEGIN:DAYLIGHT
TZOFFSETFROM:-0500
TZOFFSETTO:-0400
TZNAME:EDT
DTSTART:20220313T070000
END:DAYLIGHT
BEGIN:STANDARD
TZOFFSETFROM:-0400
TZOFFSETTO:-0500
TZNAME:EST
DTSTART:20221106T060000
END:STANDARD
BEGIN:DAYLIGHT
TZOFFSETFROM:-0500
TZOFFSETTO:-0400
TZNAME:EDT
DTSTART:20230312T070000
END:DAYLIGHT
BEGIN:STANDARD
TZOFFSETFROM:-0400
TZOFFSETTO:-0500
TZNAME:EST
DTSTART:20231105T060000
END:STANDARD
END:VTIMEZONE
BEGIN:VEVENT
DTSTART;VALUE=DATE:20220503
DTEND;VALUE=DATE:20220504
DTSTAMP:20260420T175516
CREATED:20220411T180822Z
LAST-MODIFIED:20220411T180838Z
UID:752-1651536000-1651622399@ualocal189.com
SUMMARY:Primary Election- No Meeting- Please Vote
DESCRIPTION:
URL:https://ualocal189.com/event/primary-election-no-meeting-please-vote/
END:VEVENT
BEGIN:VEVENT
DTSTART;VALUE=DATE:20220510
DTEND;VALUE=DATE:20220511
DTSTAMP:20260420T175516
CREATED:20220411T184352Z
LAST-MODIFIED:20220411T184352Z
UID:755-1652140800-1652227199@ualocal189.com
SUMMARY:Examining Board and Executive Board Meeting
DESCRIPTION:
URL:https://ualocal189.com/event/examining-board-and-executive-board-meeting/
END:VEVENT
BEGIN:VEVENT
DTSTART;TZID=America/New_York:20220517T170000
DTEND;TZID=America/New_York:20220517T190000
DTSTAMP:20260420T175516
CREATED:20220411T184452Z
LAST-MODIFIED:20220411T185449Z
UID:757-1652806800-1652814000@ualocal189.com
SUMMARY:Union Meeting- State Convention Delegate Election
DESCRIPTION:
URL:https://ualocal189.com/event/union-meeting-state-convention-delegate-election/
END:VEVENT
END:VCALENDAR