BEGIN:VCALENDAR
VERSION:2.0
PRODID:-//Plumbers &amp; Pipefitters Local Union 189 - Columbus OH - ECPv6.15.20//NONSGML v1.0//EN
CALSCALE:GREGORIAN
METHOD:PUBLISH
X-WR-CALNAME:Plumbers &amp; Pipefitters Local Union 189 - Columbus OH
X-ORIGINAL-URL:https://ualocal189.com
X-WR-CALDESC:Events for Plumbers &amp; Pipefitters Local Union 189 - Columbus OH
REFRESH-INTERVAL;VALUE=DURATION:PT1H
X-Robots-Tag:noindex
X-PUBLISHED-TTL:PT1H
BEGIN:VTIMEZONE
TZID:UTC
BEGIN:STANDARD
TZOFFSETFROM:+0000
TZOFFSETTO:+0000
TZNAME:UTC
DTSTART:20210101T000000
END:STANDARD
END:VTIMEZONE
BEGIN:VEVENT
DTSTART;VALUE=DATE:20220117
DTEND;VALUE=DATE:20220118
DTSTAMP:20260422T133117
CREATED:20220106T151851Z
LAST-MODIFIED:20220106T151851Z
UID:688-1642377600-1642463999@ualocal189.com
SUMMARY:Martin Luther King Jr Day
DESCRIPTION:“Whatever your life’s work is\, do it well.” Martin Luther King Jr.
URL:https://ualocal189.com/event/martin-luther-king-jr-day/
END:VEVENT
END:VCALENDAR