BEGIN:VCALENDAR
VERSION:2.0
PRODID:-//Plumbers &amp; Pipefitters Local Union 189 - Columbus OH - ECPv6.15.20//NONSGML v1.0//EN
CALSCALE:GREGORIAN
METHOD:PUBLISH
X-ORIGINAL-URL:https://ualocal189.com
X-WR-CALDESC:Events for Plumbers &amp; Pipefitters Local Union 189 - Columbus OH
REFRESH-INTERVAL;VALUE=DURATION:PT1H
X-Robots-Tag:noindex
X-PUBLISHED-TTL:PT1H
BEGIN:VTIMEZONE
TZID:America/New_York
BEGIN:DAYLIGHT
TZOFFSETFROM:-0500
TZOFFSETTO:-0400
TZNAME:EDT
DTSTART:20210314T070000
END:DAYLIGHT
BEGIN:STANDARD
TZOFFSETFROM:-0400
TZOFFSETTO:-0500
TZNAME:EST
DTSTART:20211107T060000
END:STANDARD
BEGIN:DAYLIGHT
TZOFFSETFROM:-0500
TZOFFSETTO:-0400
TZNAME:EDT
DTSTART:20220313T070000
END:DAYLIGHT
BEGIN:STANDARD
TZOFFSETFROM:-0400
TZOFFSETTO:-0500
TZNAME:EST
DTSTART:20221106T060000
END:STANDARD
BEGIN:DAYLIGHT
TZOFFSETFROM:-0500
TZOFFSETTO:-0400
TZNAME:EDT
DTSTART:20230312T070000
END:DAYLIGHT
BEGIN:STANDARD
TZOFFSETFROM:-0400
TZOFFSETTO:-0500
TZNAME:EST
DTSTART:20231105T060000
END:STANDARD
END:VTIMEZONE
BEGIN:VTIMEZONE
TZID:UTC
BEGIN:STANDARD
TZOFFSETFROM:+0000
TZOFFSETTO:+0000
TZNAME:UTC
DTSTART:20210101T000000
END:STANDARD
END:VTIMEZONE
BEGIN:VEVENT
DTSTART;TZID=America/New_York:20220827T100000
DTEND;TZID=America/New_York:20220827T170000
DTSTAMP:20260421T045559
CREATED:20220411T174441Z
LAST-MODIFIED:20220411T174441Z
UID:748-1661594400-1661619600@ualocal189.com
SUMMARY:189 Picnic
DESCRIPTION:Lazy River At Granville\, 2340 Dry Creek Rd NE\, Granville\, OH 43023
URL:https://ualocal189.com/event/189-picnic/
END:VEVENT
BEGIN:VEVENT
DTSTART;TZID=UTC:20221106T100000
DTEND;TZID=UTC:20221106T140000
DTSTAMP:20260421T045559
CREATED:20221004T192445Z
LAST-MODIFIED:20221004T192445Z
UID:832-1667728800-1667743200@ualocal189.com
SUMMARY:Election
DESCRIPTION:Election for Business Agent \nExamining Board Plumber \nExamining Board Pipefitter
URL:https://ualocal189.com/event/election/
LOCATION:Local Union Hall\, 1250 KINNEAR ROAD\, Columbus\, OH\, 43212\, United States
END:VEVENT
BEGIN:VEVENT
DTSTART;TZID=UTC:20221211T120000
DTEND;TZID=UTC:20221211T160000
DTSTAMP:20260421T045559
CREATED:20220429T154029Z
LAST-MODIFIED:20220429T154029Z
UID:763-1670760000-1670774400@ualocal189.com
SUMMARY:Christmas Party
DESCRIPTION:
URL:https://ualocal189.com/event/christmas-party/
END:VEVENT
BEGIN:VEVENT
DTSTART;TZID=UTC:20230103T170000
DTEND;TZID=UTC:20230103T190000
DTSTAMP:20260421T045559
CREATED:20230103T200356Z
LAST-MODIFIED:20230103T200356Z
UID:874-1672765200-1672772400@ualocal189.com
SUMMARY:Union Meeting
DESCRIPTION:
URL:https://ualocal189.com/event/union-meeting/
END:VEVENT
BEGIN:VEVENT
DTSTART;TZID=UTC:20230103T170000
DTEND;TZID=UTC:20230103T190000
DTSTAMP:20260421T045559
CREATED:20230103T201310Z
LAST-MODIFIED:20230103T201310Z
UID:883-1672765200-1672772400@ualocal189.com
SUMMARY:Union Meeting
DESCRIPTION:
URL:https://ualocal189.com/event/union-meeting-2/
END:VEVENT
BEGIN:VEVENT
DTSTART;TZID=UTC:20230110T173000
DTEND;TZID=UTC:20230110T190000
DTSTAMP:20260421T045559
CREATED:20230103T201152Z
LAST-MODIFIED:20230103T201152Z
UID:880-1673371800-1673377200@ualocal189.com
SUMMARY:Executive Board Meeting
DESCRIPTION:
URL:https://ualocal189.com/event/executive-board-meeting/
END:VEVENT
BEGIN:VEVENT
DTSTART;TZID=UTC:20230110T180000
DTEND;TZID=UTC:20230110T190000
DTSTAMP:20260421T045559
CREATED:20230103T201001Z
LAST-MODIFIED:20230103T201001Z
UID:877-1673373600-1673377200@ualocal189.com
SUMMARY:Examining Board
DESCRIPTION:
URL:https://ualocal189.com/event/examining-board/
END:VEVENT
BEGIN:VEVENT
DTSTART;TZID=UTC:20230124T183000
DTEND;TZID=UTC:20230124T193000
DTSTAMP:20260421T045559
CREATED:20230119T204337Z
LAST-MODIFIED:20230119T210431Z
UID:900-1674585000-1674588600@ualocal189.com
SUMMARY:Examining Board
DESCRIPTION:
URL:https://ualocal189.com/event/examining-board-3/
END:VEVENT
BEGIN:VEVENT
DTSTART;TZID=UTC:20230103T170000
DTEND;TZID=UTC:20230103T190000
DTSTAMP:20260421T045559
CREATED:20230103T201310Z
LAST-MODIFIED:20230103T201310Z
UID:883-1672765200-1672772400@ualocal189.com
SUMMARY:Union Meeting
DESCRIPTION:
URL:https://ualocal189.com/event/union-meeting-2/
END:VEVENT
BEGIN:VEVENT
DTSTART;TZID=UTC:20230124T183000
DTEND;TZID=UTC:20230124T193000
DTSTAMP:20260421T045559
CREATED:20230119T204337Z
LAST-MODIFIED:20230119T210431Z
UID:900-1674585000-1674588600@ualocal189.com
SUMMARY:Examining Board
DESCRIPTION:
URL:https://ualocal189.com/event/examining-board-3/
END:VEVENT
BEGIN:VEVENT
DTSTART;TZID=UTC:20230103T170000
DTEND;TZID=UTC:20230103T190000
DTSTAMP:20260421T045559
CREATED:20230103T201310Z
LAST-MODIFIED:20230103T201310Z
UID:883-1672765200-1672772400@ualocal189.com
SUMMARY:Union Meeting
DESCRIPTION:
URL:https://ualocal189.com/event/union-meeting-2/
END:VEVENT
BEGIN:VEVENT
DTSTART;TZID=UTC:20230314T173000
DTEND;TZID=UTC:20230314T190000
DTSTAMP:20260421T045559
CREATED:20230119T203850Z
LAST-MODIFIED:20230119T203851Z
UID:896-1678815000-1678820400@ualocal189.com
SUMMARY:Executive Board Meeting
DESCRIPTION:
URL:https://ualocal189.com/event/executive-board-meeting-2/
END:VEVENT
BEGIN:VEVENT
DTSTART;TZID=UTC:20230314T180000
DTEND;TZID=UTC:20230314T190000
DTSTAMP:20260421T045559
CREATED:20230119T203942Z
LAST-MODIFIED:20230119T203943Z
UID:898-1678816800-1678820400@ualocal189.com
SUMMARY:Examining Board
DESCRIPTION:
URL:https://ualocal189.com/event/examining-board-2/
END:VEVENT
BEGIN:VEVENT
DTSTART;VALUE=DATE:20230317
DTEND;VALUE=DATE:20230318
DTSTAMP:20260421T045559
CREATED:20230103T201527Z
LAST-MODIFIED:20230103T201527Z
UID:886-1679011200-1679097599@ualocal189.com
SUMMARY:St Patrick's Day
DESCRIPTION:
URL:https://ualocal189.com/event/st-patricks-day/
END:VEVENT
BEGIN:VEVENT
DTSTART;TZID=UTC:20230124T183000
DTEND;TZID=UTC:20230124T193000
DTSTAMP:20260421T045559
CREATED:20230119T204337Z
LAST-MODIFIED:20230119T210431Z
UID:900-1674585000-1674588600@ualocal189.com
SUMMARY:Examining Board
DESCRIPTION:
URL:https://ualocal189.com/event/examining-board-3/
END:VEVENT
BEGIN:VEVENT
DTSTART;TZID=UTC:20230103T170000
DTEND;TZID=UTC:20230103T190000
DTSTAMP:20260421T045559
CREATED:20230103T201310Z
LAST-MODIFIED:20230103T201310Z
UID:883-1672765200-1672772400@ualocal189.com
SUMMARY:Union Meeting
DESCRIPTION:
URL:https://ualocal189.com/event/union-meeting-2/
END:VEVENT
BEGIN:VEVENT
DTSTART;TZID=UTC:20230314T173000
DTEND;TZID=UTC:20230314T190000
DTSTAMP:20260421T045559
CREATED:20230119T203850Z
LAST-MODIFIED:20230119T203851Z
UID:896-1678815000-1678820400@ualocal189.com
SUMMARY:Executive Board Meeting
DESCRIPTION:
URL:https://ualocal189.com/event/executive-board-meeting-2/
END:VEVENT
BEGIN:VEVENT
DTSTART;TZID=UTC:20230314T180000
DTEND;TZID=UTC:20230314T190000
DTSTAMP:20260421T045559
CREATED:20230119T203942Z
LAST-MODIFIED:20230119T203943Z
UID:898-1678816800-1678820400@ualocal189.com
SUMMARY:Examining Board
DESCRIPTION:
URL:https://ualocal189.com/event/examining-board-2/
END:VEVENT
BEGIN:VEVENT
DTSTART;TZID=UTC:20230124T183000
DTEND;TZID=UTC:20230124T193000
DTSTAMP:20260421T045559
CREATED:20230119T204337Z
LAST-MODIFIED:20230119T210431Z
UID:900-1674585000-1674588600@ualocal189.com
SUMMARY:Examining Board
DESCRIPTION:
URL:https://ualocal189.com/event/examining-board-3/
END:VEVENT
BEGIN:VEVENT
DTSTART;TZID=UTC:20230103T170000
DTEND;TZID=UTC:20230103T190000
DTSTAMP:20260421T045559
CREATED:20230103T201310Z
LAST-MODIFIED:20230103T201310Z
UID:883-1672765200-1672772400@ualocal189.com
SUMMARY:Union Meeting
DESCRIPTION:
URL:https://ualocal189.com/event/union-meeting-2/
END:VEVENT
BEGIN:VEVENT
DTSTART;TZID=UTC:20230314T173000
DTEND;TZID=UTC:20230314T190000
DTSTAMP:20260421T045559
CREATED:20230119T203850Z
LAST-MODIFIED:20230119T203851Z
UID:896-1678815000-1678820400@ualocal189.com
SUMMARY:Executive Board Meeting
DESCRIPTION:
URL:https://ualocal189.com/event/executive-board-meeting-2/
END:VEVENT
BEGIN:VEVENT
DTSTART;TZID=UTC:20230314T180000
DTEND;TZID=UTC:20230314T190000
DTSTAMP:20260421T045559
CREATED:20230119T203942Z
LAST-MODIFIED:20230119T203943Z
UID:898-1678816800-1678820400@ualocal189.com
SUMMARY:Examining Board
DESCRIPTION:
URL:https://ualocal189.com/event/examining-board-2/
END:VEVENT
BEGIN:VEVENT
DTSTART;TZID=UTC:20230124T183000
DTEND;TZID=UTC:20230124T193000
DTSTAMP:20260421T045559
CREATED:20230119T204337Z
LAST-MODIFIED:20230119T210431Z
UID:900-1674585000-1674588600@ualocal189.com
SUMMARY:Examining Board
DESCRIPTION:
URL:https://ualocal189.com/event/examining-board-3/
END:VEVENT
BEGIN:VEVENT
DTSTART;TZID=UTC:20230103T170000
DTEND;TZID=UTC:20230103T190000
DTSTAMP:20260421T045559
CREATED:20230103T201310Z
LAST-MODIFIED:20230103T201310Z
UID:883-1672765200-1672772400@ualocal189.com
SUMMARY:Union Meeting
DESCRIPTION:
URL:https://ualocal189.com/event/union-meeting-2/
END:VEVENT
BEGIN:VEVENT
DTSTART;TZID=UTC:20230314T173000
DTEND;TZID=UTC:20230314T190000
DTSTAMP:20260421T045559
CREATED:20230119T203850Z
LAST-MODIFIED:20230119T203851Z
UID:896-1678815000-1678820400@ualocal189.com
SUMMARY:Executive Board Meeting
DESCRIPTION:
URL:https://ualocal189.com/event/executive-board-meeting-2/
END:VEVENT
BEGIN:VEVENT
DTSTART;TZID=UTC:20230314T180000
DTEND;TZID=UTC:20230314T190000
DTSTAMP:20260421T045559
CREATED:20230119T203942Z
LAST-MODIFIED:20230119T203943Z
UID:898-1678816800-1678820400@ualocal189.com
SUMMARY:Examining Board
DESCRIPTION:
URL:https://ualocal189.com/event/examining-board-2/
END:VEVENT
BEGIN:VEVENT
DTSTART;TZID=UTC:20230103T170000
DTEND;TZID=UTC:20230103T190000
DTSTAMP:20260421T045559
CREATED:20230103T201310Z
LAST-MODIFIED:20230103T201310Z
UID:883-1672765200-1672772400@ualocal189.com
SUMMARY:Union Meeting
DESCRIPTION:
URL:https://ualocal189.com/event/union-meeting-2/
END:VEVENT
BEGIN:VEVENT
DTSTART;TZID=UTC:20230314T173000
DTEND;TZID=UTC:20230314T190000
DTSTAMP:20260421T045559
CREATED:20230119T203850Z
LAST-MODIFIED:20230119T203851Z
UID:896-1678815000-1678820400@ualocal189.com
SUMMARY:Executive Board Meeting
DESCRIPTION:
URL:https://ualocal189.com/event/executive-board-meeting-2/
END:VEVENT
BEGIN:VEVENT
DTSTART;TZID=UTC:20230314T180000
DTEND;TZID=UTC:20230314T190000
DTSTAMP:20260421T045559
CREATED:20230119T203942Z
LAST-MODIFIED:20230119T203943Z
UID:898-1678816800-1678820400@ualocal189.com
SUMMARY:Examining Board
DESCRIPTION:
URL:https://ualocal189.com/event/examining-board-2/
END:VEVENT
BEGIN:VEVENT
DTSTART;TZID=UTC:20230103T170000
DTEND;TZID=UTC:20230103T190000
DTSTAMP:20260421T045559
CREATED:20230103T201310Z
LAST-MODIFIED:20230103T201310Z
UID:883-1672765200-1672772400@ualocal189.com
SUMMARY:Union Meeting
DESCRIPTION:
URL:https://ualocal189.com/event/union-meeting-2/
END:VEVENT
END:VCALENDAR