BEGIN:VCALENDAR
VERSION:2.0
PRODID:-//Plumbers &amp; Pipefitters Local Union 189 - Columbus OH - ECPv6.15.20//NONSGML v1.0//EN
CALSCALE:GREGORIAN
METHOD:PUBLISH
X-ORIGINAL-URL:https://ualocal189.com
X-WR-CALDESC:Events for Plumbers &amp; Pipefitters Local Union 189 - Columbus OH
REFRESH-INTERVAL;VALUE=DURATION:PT1H
X-Robots-Tag:noindex
X-PUBLISHED-TTL:PT1H
BEGIN:VTIMEZONE
TZID:America/New_York
BEGIN:DAYLIGHT
TZOFFSETFROM:-0500
TZOFFSETTO:-0400
TZNAME:EDT
DTSTART:20210314T070000
END:DAYLIGHT
BEGIN:STANDARD
TZOFFSETFROM:-0400
TZOFFSETTO:-0500
TZNAME:EST
DTSTART:20211107T060000
END:STANDARD
BEGIN:DAYLIGHT
TZOFFSETFROM:-0500
TZOFFSETTO:-0400
TZNAME:EDT
DTSTART:20220313T070000
END:DAYLIGHT
BEGIN:STANDARD
TZOFFSETFROM:-0400
TZOFFSETTO:-0500
TZNAME:EST
DTSTART:20221106T060000
END:STANDARD
BEGIN:DAYLIGHT
TZOFFSETFROM:-0500
TZOFFSETTO:-0400
TZNAME:EDT
DTSTART:20230312T070000
END:DAYLIGHT
BEGIN:STANDARD
TZOFFSETFROM:-0400
TZOFFSETTO:-0500
TZNAME:EST
DTSTART:20231105T060000
END:STANDARD
END:VTIMEZONE
BEGIN:VEVENT
DTSTART;TZID=America/New_York:20220607T173000
DTEND;TZID=America/New_York:20220607T173000
DTSTAMP:20260420T175309
CREATED:20220601T134930Z
LAST-MODIFIED:20220601T135621Z
UID:775-1654623000-1654623000@ualocal189.com
SUMMARY:Union Meeting Cancelled
DESCRIPTION:Union meeting is cancelled tonight. Please Attend Saturday June 11th to discuss the Contract and VOTE.
URL:https://ualocal189.com/event/union-meeting-cancelled/
END:VEVENT
END:VCALENDAR