BEGIN:VCALENDAR
VERSION:2.0
PRODID:-//Plumbers &amp; Pipefitters Local Union 189 - Columbus OH - ECPv6.15.20//NONSGML v1.0//EN
CALSCALE:GREGORIAN
METHOD:PUBLISH
X-ORIGINAL-URL:https://ualocal189.com
X-WR-CALDESC:Events for Plumbers &amp; Pipefitters Local Union 189 - Columbus OH
REFRESH-INTERVAL;VALUE=DURATION:PT1H
X-Robots-Tag:noindex
X-PUBLISHED-TTL:PT1H
BEGIN:VTIMEZONE
TZID:UTC
BEGIN:STANDARD
TZOFFSETFROM:+0000
TZOFFSETTO:+0000
TZNAME:UTC
DTSTART:20210101T000000
END:STANDARD
END:VTIMEZONE
BEGIN:VEVENT
DTSTART;VALUE=DATE:20220503
DTEND;VALUE=DATE:20220504
DTSTAMP:20260422T085542
CREATED:20220411T180822Z
LAST-MODIFIED:20220411T180838Z
UID:752-1651536000-1651622399@ualocal189.com
SUMMARY:Primary Election- No Meeting- Please Vote
DESCRIPTION:
URL:https://ualocal189.com/event/primary-election-no-meeting-please-vote/
END:VEVENT
END:VCALENDAR